BEGIN:VCALENDAR
VERSION:2.0
PRODID:-//wp-events-plugin.com//7.2.3.1//EN
TZID:Europe/Paris
X-WR-TIMEZONE:Europe/Paris
BEGIN:VEVENT
UID:22@unac-holistique.fr
DTSTART;TZID=Europe/Paris:20241201T090000
DTEND;TZID=Europe/Paris:20241201T130000
DTSTAMP:20241030T092942Z
URL:https://unac-holistique.fr/events/atelier-initiation-a-la-communicatio
 n-spirituelle-avec-les-lignes-de-la-main-comme-support/
SUMMARY:Atelier "Initiation à la communication spirituelle" avec les ligne
 s de la main
DESCRIPTION:Avec Raphaël Henri\, médium et magnétiseur spirituel. Atelie
 r pour 5 à 8 personnes.
ATTACH;FMTTYPE=image/jpeg:https://unac-holistique.fr/wp-content/uploads/20
 24/02/pexels-pavel-danilyuk-7221656-scaled.jpg
CATEGORIES:Atelier,Communication spirituelle,Raphaël Henri
LOCATION:Atelier Holistique d'Unac\, rue des Jardins\, Unac\, Région Midi-
 Pyrénées\, Ariège\, France
GEO:42.761416;1.773354
X-APPLE-STRUCTURED-LOCATION;VALUE=URI;X-ADDRESS=rue des Jardins\, Unac\, R
 égion Midi-Pyrénées\, Ariège\, France;X-APPLE-RADIUS=100;X-TITLE=Ateli
 er Holistique d'Unac:geo:42.761416,1.773354
END:VEVENT
BEGIN:VTIMEZONE
TZID:Europe/Paris
X-LIC-LOCATION:Europe/Paris
BEGIN:STANDARD
DTSTART:20241027T020000
TZOFFSETFROM:+0200
TZOFFSETTO:+0100
TZNAME:CET
END:STANDARD
END:VTIMEZONE
END:VCALENDAR