BEGIN:VCALENDAR
VERSION:2.0
PRODID:-//wp-events-plugin.com//7.2.3.1//EN
TZID:Europe/Paris
X-WR-TIMEZONE:Europe/Paris
BEGIN:VEVENT
UID:27@unac-holistique.fr
DTSTART;TZID=Europe/Paris:20260531T090000
DTEND;TZID=Europe/Paris:20260531T130000
DTSTAMP:20260423T094115Z
URL:https://unac-holistique.fr/events/atelier-initiation-a-la-communicatio
 n-spirituelle-avec-tarots-oracles/
SUMMARY:Atelier "Initiation à la communication spirituelle" avec tarots/or
 acles
DESCRIPTION:Avec Raphaël Henri\, médium et magnétiseur spirituel. Atelie
 r pour 5 à 8 personnes.
ATTACH;FMTTYPE=image/jpeg:https://unac-holistique.fr/wp-content/uploads/20
 24/02/pexels-cottonbro-studio-7179806-1-scaled.jpg
CATEGORIES:Atelier,Communication spirituelle,Raphaël Henri
LOCATION:Atelier Holistique d'Unac\, rue des Jardins\, Unac\, Région Midi-
 Pyrénées\, Ariège\, France
GEO:42.761416;1.773354
X-APPLE-STRUCTURED-LOCATION;VALUE=URI;X-ADDRESS=rue des Jardins\, Unac\, R
 égion Midi-Pyrénées\, Ariège\, France;X-APPLE-RADIUS=100;X-TITLE=Ateli
 er Holistique d'Unac:geo:42.761416,1.773354
END:VEVENT
BEGIN:VTIMEZONE
TZID:Europe/Paris
X-LIC-LOCATION:Europe/Paris
BEGIN:DAYLIGHT
DTSTART:20260329T030000
TZOFFSETFROM:+0100
TZOFFSETTO:+0200
TZNAME:CEST
END:DAYLIGHT
END:VTIMEZONE
END:VCALENDAR