BEGIN:VCALENDAR
VERSION:2.0
PRODID:-//wp-events-plugin.com//7.2.3.1//EN
TZID:Europe/Paris
X-WR-TIMEZONE:Europe/Paris
BEGIN:VEVENT
UID:28@unac-holistique.fr
DTSTART;TZID=Europe/Paris:20260614T103000
DTEND;TZID=Europe/Paris:20260614T163000
DTSTAMP:20260423T093637Z
URL:https://unac-holistique.fr/events/atelier-la-puissance-de-la-pensee/
SUMMARY:Atelier "La puissance de la Pensée"
DESCRIPTION:Marie-France Martin vous propose des outils pour vous aider à 
 mieux vous connaitre et à améliorer votre quotidien\, grâce au pouvoir 
 de la Pensée.\nAtelier pour tous ceux en quête de sens et d'émancipatio
 n.
ATTACH;FMTTYPE=image/jpeg:https://unac-holistique.fr/wp-content/uploads/20
 26/04/Marie-France-martin-Affiche-atelier-14.06.26.jpg
CATEGORIES:Atelier,Développement personnel,Marie-France Martin
LOCATION:Atelier Holistique d'Unac\, rue des Jardins\, Unac\, Région Midi-
 Pyrénées\, Ariège\, France
GEO:42.761416;1.773354
X-APPLE-STRUCTURED-LOCATION;VALUE=URI;X-ADDRESS=rue des Jardins\, Unac\, R
 égion Midi-Pyrénées\, Ariège\, France;X-APPLE-RADIUS=100;X-TITLE=Ateli
 er Holistique d'Unac:geo:42.761416,1.773354
END:VEVENT
BEGIN:VTIMEZONE
TZID:Europe/Paris
X-LIC-LOCATION:Europe/Paris
BEGIN:DAYLIGHT
DTSTART:20260329T030000
TZOFFSETFROM:+0100
TZOFFSETTO:+0200
TZNAME:CEST
END:DAYLIGHT
END:VTIMEZONE
END:VCALENDAR