BEGIN:VCALENDAR
VERSION:2.0
PRODID:-//wp-events-plugin.com//7.2.3.1//EN
TZID:Europe/Paris
X-WR-TIMEZONE:Europe/Paris
BEGIN:VEVENT
UID:4@unac-holistique.fr
DTSTART;TZID=Europe/Paris:20230923T090000
DTEND;TZID=Europe/Paris:20230924T170000
DTSTAMP:20241028T200455Z
URL:https://unac-holistique.fr/events/stage-de-2-jours-en-chamanisme/
SUMMARY:Stage en chamanisme : Quête et rencontre avec ses Esprits Guides
DESCRIPTION:Quête et rencontre avec ses Esprits Guides avec Georges Saby.\
 nStage terminé.
ATTACH;FMTTYPE=image/jpeg:https://unac-holistique.fr/wp-content/uploads/20
 23/02/pexels-felix-mittermeier-1080401-scaled.jpg
CATEGORIES:Chamanisme,Georges Saby,Stage
LOCATION:Atelier Holistique d'Unac\, rue des Jardins\, Unac\, Région Midi-
 Pyrénées\, Ariège\, France
GEO:42.761416;1.773354
X-APPLE-STRUCTURED-LOCATION;VALUE=URI;X-ADDRESS=rue des Jardins\, Unac\, R
 égion Midi-Pyrénées\, Ariège\, France;X-APPLE-RADIUS=100;X-TITLE=Ateli
 er Holistique d'Unac:geo:42.761416,1.773354
END:VEVENT
BEGIN:VTIMEZONE
TZID:Europe/Paris
X-LIC-LOCATION:Europe/Paris
BEGIN:DAYLIGHT
DTSTART:20230326T030000
TZOFFSETFROM:+0100
TZOFFSETTO:+0200
TZNAME:CEST
END:DAYLIGHT
END:VTIMEZONE
END:VCALENDAR